BEGIN:VCALENDAR
VERSION:2.0
PRODID:-//CRLN - ECPv6.0.11//NONSGML v1.0//EN
CALSCALE:GREGORIAN
METHOD:PUBLISH
X-ORIGINAL-URL:https://crln.org
X-WR-CALDESC:Events for CRLN
REFRESH-INTERVAL;VALUE=DURATION:PT1H
X-Robots-Tag:noindex
X-PUBLISHED-TTL:PT1H
BEGIN:VTIMEZONE
TZID:America/Chicago
BEGIN:DAYLIGHT
TZOFFSETFROM:-0600
TZOFFSETTO:-0500
TZNAME:CDT
DTSTART:20200308T080000
END:DAYLIGHT
BEGIN:STANDARD
TZOFFSETFROM:-0500
TZOFFSETTO:-0600
TZNAME:CST
DTSTART:20201101T070000
END:STANDARD
END:VTIMEZONE
BEGIN:VEVENT
DTSTART;TZID=America/Chicago:20200416T180000
DTEND;TZID=America/Chicago:20200416T200000
DTSTAMP:20260425T230651
CREATED:20200326T223830Z
LAST-MODIFIED:20200327T161327Z
UID:11326-1587060000-1587067200@crln.org
SUMMARY:“Ancestral Movements: Indigenous Territory and Migration” with Silvia Raquec Cum
DESCRIPTION:Webinar\, “Ancestral Movements: Indigenous Territory and Migration”\nwith Maya Kaqchikel presenter Silvia Raquec Cum\, Migration Program Coordinator\, Association Pop No’j\nApril 16\, 2020\, 6:00pm CST \nWhile state forces threaten their safety and dignity\, Indigenous peoples and migrants resist with courage and resilience. Join us for this webinar to learn about resource extraction\, migration\, and the work of Indigenous people in Guatemala to build a world beyond colonial borders. Register here for English translation webinar.  Register here for Spanish language webinar. \n  \nThis educational session will prepare you to participate in a wide coalition campaign\, of which CRLN is a part\, to end the Asylum Cooperation Agreements (ACAs) between the U.S. Department of Homeland Security and the Presidents of Guatemala\, Honduras\, and El Salvador. The ACAs allow the U.S. to deport asylum seekers and require them to seek asylum in these three countries. None of these countries has a well-functioning process for applying for asylum nor the capacity to shelter and feed people deported while they wait. No Congress has approved these agreements.
URL:https://crln.org/event/ancestral-movements-indigenous-territory-and-migration-with-silvia-raquec-cum/
END:VEVENT
END:VCALENDAR