BEGIN:VCALENDAR
VERSION:2.0
PRODID:-//CRLN - ECPv6.0.11//NONSGML v1.0//EN
CALSCALE:GREGORIAN
METHOD:PUBLISH
X-ORIGINAL-URL:https://crln.org
X-WR-CALDESC:Events for CRLN
REFRESH-INTERVAL;VALUE=DURATION:PT1H
X-Robots-Tag:noindex
X-PUBLISHED-TTL:PT1H
BEGIN:VTIMEZONE
TZID:America/Chicago
BEGIN:DAYLIGHT
TZOFFSETFROM:-0600
TZOFFSETTO:-0500
TZNAME:CDT
DTSTART:20210314T080000
END:DAYLIGHT
BEGIN:STANDARD
TZOFFSETFROM:-0500
TZOFFSETTO:-0600
TZNAME:CST
DTSTART:20211107T070000
END:STANDARD
END:VTIMEZONE
BEGIN:VEVENT
DTSTART;TZID=America/Chicago:20210402T120000
DTEND;TZID=America/Chicago:20210402T140000
DTSTAMP:20260424T230023
CREATED:20210318T220250Z
LAST-MODIFIED:20210401T211324Z
UID:12004-1617364800-1617372000@crln.org
SUMMARY:Good Friday Walk for Justice
DESCRIPTION:Good Friday Walk for Justice: Rise Up and Roll Away the Stone! This event stems from the Christian tradition of the Stations of the Cross\, where Jesus walked to his execution.  Who is being crucified today and what “stones” block their pathway to new life? At each station\, we will name a particular form of injustice and call for transformation. April 2 marks this event’s 41st year\, and\, like last year\, we will participate in the event online. Register for this event here! \nThis Good Friday\, our collective community remembers that we belong to each other. We believe we have the power to rise up together and lean into the strength of our foundational bonds of justice for all. \nWe have the power to roll away stones of white supremacy\, greed\, and state violenc e. As we roll the stones away\, we commit to co-create systems in which resources are shared\, allowing our imaginations to generate radically new ways of living and thriving in a more just society. \nWe believe that the stone of injustice will be rolled away in our rejection of the status quo. As Easter people we recommit ourselves to choose actions of trans- formation. Together we pledge our efforts to bring about greater justice for all peoples and Earth itself. \nJoin us as together we reﬂect\, pray\, proclaim and celebrate the many ways that together we are Rolling the Stones Away. \nTo learn more about the walk go to walkforjusticechicago.com. \nTo support this year’s Walk\, make checks payable to CRLN (memo GFWalk) and mail to CRLN\, 5655 S. University Ave\, Chicago 60637 or online: http://bit.ly/3rHuesZ \n  \nIf you can’t join us for the zoom worship service you can watch a video and download the prayer booklet at https://crln.org/gfwj/
URL:https://crln.org/event/good-friday-walk-for-justice-3/
ATTACH;FMTTYPE=image/jpeg:https://crln.org/wp-content/uploads/2021/03/Postcard-Front.jpg
END:VEVENT
END:VCALENDAR