BEGIN:VCALENDAR
VERSION:2.0
PRODID:-//CRLN - ECPv6.0.11//NONSGML v1.0//EN
CALSCALE:GREGORIAN
METHOD:PUBLISH
X-ORIGINAL-URL:https://crln.org
X-WR-CALDESC:Events for CRLN
REFRESH-INTERVAL;VALUE=DURATION:PT1H
X-Robots-Tag:noindex
X-PUBLISHED-TTL:PT1H
BEGIN:VTIMEZONE
TZID:America/Chicago
BEGIN:DAYLIGHT
TZOFFSETFROM:-0600
TZOFFSETTO:-0500
TZNAME:CDT
DTSTART:20210314T080000
END:DAYLIGHT
BEGIN:STANDARD
TZOFFSETFROM:-0500
TZOFFSETTO:-0600
TZNAME:CST
DTSTART:20211107T070000
END:STANDARD
END:VTIMEZONE
BEGIN:VEVENT
DTSTART;TZID=America/Chicago:20210405T160000
DTEND;TZID=America/Chicago:20210405T170000
DTSTAMP:20260424T225941
CREATED:20210318T224001Z
LAST-MODIFIED:20210325T182823Z
UID:12014-1617638400-1617642000@crln.org
SUMMARY:TPS Webinar
DESCRIPTION:Register at http://tiny.cc/crlnwebinar2\nJoin us to learn more about advocacy campaigns to gain permanent residency for current TPS holders and to expand TPS to include people from more countries.\nAfter you register you will receive an email from Alianza Americas with zoom information.
URL:https://crln.org/event/tps-webinar/
ATTACH;FMTTYPE=image/jpeg:https://crln.org/wp-content/uploads/2021/03/TPSWebinar2-4.05.21.jpg
END:VEVENT
END:VCALENDAR