BEGIN:VCALENDAR
VERSION:2.0
PRODID:-//CRLN - ECPv6.0.11//NONSGML v1.0//EN
CALSCALE:GREGORIAN
METHOD:PUBLISH
X-ORIGINAL-URL:https://crln.org
X-WR-CALDESC:Events for CRLN
REFRESH-INTERVAL;VALUE=DURATION:PT1H
X-Robots-Tag:noindex
X-PUBLISHED-TTL:PT1H
BEGIN:VTIMEZONE
TZID:America/Chicago
BEGIN:DAYLIGHT
TZOFFSETFROM:-0600
TZOFFSETTO:-0500
TZNAME:CDT
DTSTART:20210314T080000
END:DAYLIGHT
BEGIN:STANDARD
TZOFFSETFROM:-0500
TZOFFSETTO:-0600
TZNAME:CST
DTSTART:20211107T070000
END:STANDARD
END:VTIMEZONE
BEGIN:VEVENT
DTSTART;VALUE=DATE:20210409
DTEND;VALUE=DATE:20210601
DTSTAMP:20260424T225939
CREATED:20210325T165830Z
LAST-MODIFIED:20210325T170242Z
UID:12041-1617926400-1622505599@crln.org
SUMMARY:Days of Prayer and Action for Colombia
DESCRIPTION:CRLN is seeking congregations to participate in the Days of Prayer and Action for Colombia in April and May of 2021. We will distribute educational resources on Colombia’s Peace Process\, the need to implement it fully\, and the ever-growing number of victims.  We can work with you to help plan virtual worship and action opportunities for your congregation in April and May. For more information contact Marilyn McKenna at mmckenna@crln.org \n 
URL:https://crln.org/event/days-of-prayer-and-action-for-colombia/
ATTACH;FMTTYPE=image/jpeg:https://crln.org/wp-content/uploads/2021/03/Yorkfield-Presbyterian-008-scaled.jpg
END:VEVENT
BEGIN:VEVENT
DTSTART;VALUE=DATE:20210418
DTEND;VALUE=DATE:20210422
DTSTAMP:20260424T225939
CREATED:20210325T180230Z
LAST-MODIFIED:20210402T014406Z
UID:12045-1618704000-1619049599@crln.org
SUMMARY:Virtual Ecumenical Advocacy Days - Imagine! God’s Earth and People Restored
DESCRIPTION:EAD 2021 is an opportunity to advocate for climate justice and support the global movement centered and led by people and communities most vulnerable to climate impacts due to historic racial and colonial inequalities. #EAD2021 hopes to passionately advocate and reimagine a world that lives out the values of justice\, equity\, and beloved community. \nEAD will include opportunities for worship\, advocacy training and workshops on Latin America (see list of workshops below).  Visit the EAD website to learn more about the event.\nEarly bird registration ends April 7. You can register at https://attendify.co/ecumenical-advocacy-days-pbfNWPy.  Registration fees range from $15.00 – $50.00.   Please contact Marilyn McKenna at mmckenna@crln.orgif registration fees are a barrier to your participation. \nRegister for EAD before April 7\, 2021 if you are interested in participating in the EAD organized lobby day. This gives the EAD staff time to schedule the meetings. If you register after April 7\, you are not guaranteed to have a meeting set up for you. \nPlease contact Marilyn McKenna at mmckenna@crln.org for more information. \n\nLatin America Workshops at Ecumenical Advocacy Days \nMonday 4/19 \n10am CT — MCC\, OXFAM\, Bread for the World\, CWS \nClimate Change as a Driver of Forced Migration from Central America\nClimate change is increasingly a driver of forced migration and displacement in Central America. As climate change worsens droughts\, hurricanes\, and crop diseases in the region\, individuals are forced by hunger or lack of economic opportunities to leave their homes. Come hear from organizations supporting communities impacted by or facing risks from climate change in Central America. Learn how climate change intersects with other root causes of migration\, what works in helping small farmers and communities adapt to a changing climate\, and how you can support U.S. policies to address climate change in the region.\nSpeakers: Susana Lopez from Pastoral de la Tierra San Marcos\, Dulce Gamboa\, Barbara Ford Peace Center in El Quiché\, or Guatemala cluster coordinator \n1:30pm CT – Amazon Watch\nWhat is President Biden’s Agenda in the Amazon Rainforest?\nAs part of his sweeping climate executive order\, President Biden mandated the creation of a U.S. government plan to support protection of the Amazon rainforest and other ecosystems that are important for regulating the global climate. How is the plan shaping up? What proposals have Amazonian Indigenous peoples and other grassroots social movements presented to stop destruction of their rainforest territories? What is the U.S. government’s role in regulating the operations of asset managers and banks that finance destruction and human rights violations in the Amazon? How can Congress be helpful?\nSpeakers: Patricia Gualinga from Ecuador\, Moira Birss from Amazon Watch\, Peter Hughes from REPAM. \n1:30pm CT — MCC [This is from the Eco-Justice track but we are hoping to cross-list it!]\nThe impact of border walls on endangered species and sacred lands\nSince 2017\, billions of dollars have been spent to construct new walls on the U.S.-Mexico border. Construction has caused irreparable harm to public lands from Texas to Arizona\, extracting millions of gallons of precious groundwater in the desert\, encroaching on indigenous lands\, severing migration routes and otherwise imperiling protected and endangered species. Dozens of laws that protect the environment\, public health\, and sacred lands were waived to speed construction. Find out how you can urge the Biden administration and your members of Congress to respond.\nModerator: Tammy Alexander\, Director of National Advocacy and Program\, Mennonite Central Committee U.S. Panelists: Jennifer Johnson\, Border Policy Advisor\, Southern Border Communities Coalition\, Tricia Cortez\, Executive Director\, Rio Grande International Study Center\, Scott Nicol\, Assistant Professor at South Texas College (McAllen) and co-author of two ACLU reports on the history and impacts of walls along the U.S.-Mexico border \nTuesday 4/20\n1:30pm CT — LAWG/ELCA\nTime for Progress: Advocacy for Just U.S. Foreign & Migration Policies towards Latin America\nWith a relentless focus on stopping migration\, U.S. policy in the last few years has ignored many human rights challenges in the Western Hemisphere\, including corruption\, weak rule of law\, and threats faced by environmental activists\, indigenous peoples\, women\, and the LGBTQ+ community. Now we have the opportunity to restore asylum\, protect migrants\, and address the root causes of migration for those fleeing Central America and Mexico. There will also be time to ask questions about what we can do to fully reopen diplomatic relations with and travel to Cuba\, protect peace in Colombia\, and ask our government to prioritize protecting human rights and environmental defenders throughout the Americas. Come discuss with advocates how together we can build a more just immigration and foreign policy towards Latin America in this pivotal year.\nSpeakers: Lisa Haugaard & Daniella Burgi-Palomino (LAWG)\, Joaquin Mejia (Jesuit Center ERIC\, Honduras)\, Melissa Vertiz Hernandez\, Secretaria Tecnica\, Grupo de Trabajo de Politicas Migratorias \n  \n  \n  \n  \n  \n 
URL:https://crln.org/event/virtual-ecumenical-advocacy-days-imagine-gods-earth-and-people-restored/
ATTACH;FMTTYPE=image/jpeg:https://crln.org/wp-content/uploads/2021/03/ead.jpg
END:VEVENT
END:VCALENDAR