BEGIN:VCALENDAR
VERSION:2.0
PRODID:-//CRLN - ECPv6.0.11//NONSGML v1.0//EN
CALSCALE:GREGORIAN
METHOD:PUBLISH
X-WR-CALNAME:CRLN
X-ORIGINAL-URL:https://crln.org
X-WR-CALDESC:Events for CRLN
REFRESH-INTERVAL;VALUE=DURATION:PT1H
X-Robots-Tag:noindex
X-PUBLISHED-TTL:PT1H
BEGIN:VTIMEZONE
TZID:America/Chicago
BEGIN:DAYLIGHT
TZOFFSETFROM:-0600
TZOFFSETTO:-0500
TZNAME:CDT
DTSTART:20230312T080000
END:DAYLIGHT
BEGIN:STANDARD
TZOFFSETFROM:-0500
TZOFFSETTO:-0600
TZNAME:CST
DTSTART:20231105T070000
END:STANDARD
END:VTIMEZONE
BEGIN:VEVENT
DTSTART;TZID=America/Chicago:20231112T160000
DTEND;TZID=America/Chicago:20231112T200000
DTSTAMP:20260419T183304
CREATED:20231106T204650Z
LAST-MODIFIED:20231106T205617Z
UID:13540-1699804800-1699819200@crln.org
SUMMARY:IRTF Human Rights Banquet - Fiesta de Derechos Humanxs
DESCRIPTION:On Sunday\, November 12\, 2023\, the InterReligious Task Force on Central America (IRTF) will commemorate the 43rd anniversary of the martyrdom of Clevelanders in El Salvador. On December 2\, 1980—four women (including CWRU alumna\, Jean Donovan and Ursuline Sister\, Dorothy Kazel) paid with their lives for deciding to stay in solidarity with oppressed and marginalized peoples\, despite political turmoil in El Salvador. \nRegister Here
URL:https://crln.org/event/irtf-human-rights-banquet-fiesta-de-derechos-humanxs/
LOCATION:Julia de Burgos Center\, 2800 Archwood Ave\, Cleveland\, OH\, 44109\, United States
CATEGORIES:Speaking tour
ATTACH;FMTTYPE=image/jpeg:https://crln.org/wp-content/uploads/2023/11/IRTF-Nov-12-Event.jpg
END:VEVENT
BEGIN:VEVENT
DTSTART;TZID=America/Chicago:20231114T190000
DTEND;TZID=America/Chicago:20231114T200000
DTSTAMP:20260419T183304
CREATED:20231106T205426Z
LAST-MODIFIED:20231106T205522Z
UID:13546-1699988400-1699992000@crln.org
SUMMARY:ICPJ Latin America Caucus’ Honduras: Human Rights Crisis & Forced Migration
DESCRIPTION:​Interfaith Council for Peace and Justice centers racial and economic justice as we address the root causes of violence from oppression\, poverty\, environmental devastation\, patriarchy\, and war. \nThanks to our co-sponsors Church of the Good Shepherd\, U of M Center for Latin American and Caribbean Studies and the Huron Valley Democratic Socialists of America. \nRegister Here
URL:https://crln.org/event/icpj-latin-america-caucus-honduras-human-rights-crisis-forced-migration/
LOCATION:Church of the Good Shepherd\, 2145 Independence Blvd\, Ann Arbor\, MI\, 48104\, United States
CATEGORIES:Speaking tour
ATTACH;FMTTYPE=image/jpeg:https://crln.org/wp-content/uploads/2023/11/ICPJ-Nov-14-Event.jpg
END:VEVENT
BEGIN:VEVENT
DTSTART;TZID=America/Chicago:20231116T183000
DTEND;TZID=America/Chicago:20231116T193000
DTSTAMP:20260419T183304
CREATED:20231107T230932Z
LAST-MODIFIED:20231108T193300Z
UID:13554-1700159400-1700163000@crln.org
SUMMARY:Celebrando Alternativas Comunitarias - La Voz de los de Abajo
DESCRIPTION:Blanca Valladares de Red COMAL en Honduras comparte cómo la agricultura comunitaria\, las cooperativas y los productos locales han respaldado a las comunidades en resistencia durante los últimos 30 años. \nCelebrating Community Alternatives- Blanca Valladares from Red COMAL in Honduras shares how for 30 years\, community agriculture\, cooperatives\, and local products have supported communities in resistance.
URL:https://crln.org/event/celebrando-alternativas-comunitarias-la-voz-de-los-de-abajo/
LOCATION:18th Street Casa de Cultura\, 2057 W 18th St.\, Chicago\, IL\, 60608\, United States
CATEGORIES:Speaking tour
ATTACH;FMTTYPE=image/jpeg:https://crln.org/wp-content/uploads/2023/11/Celebrando-Alternativas-Comunitarias-Nov-16-scaled.jpg
END:VEVENT
END:VCALENDAR