BEGIN:VCALENDAR
VERSION:2.0
PRODID:-//CRLN - ECPv6.0.11//NONSGML v1.0//EN
CALSCALE:GREGORIAN
METHOD:PUBLISH
X-WR-CALNAME:CRLN
X-ORIGINAL-URL:https://crln.org
X-WR-CALDESC:Events for CRLN
REFRESH-INTERVAL;VALUE=DURATION:PT1H
X-Robots-Tag:noindex
X-PUBLISHED-TTL:PT1H
BEGIN:VTIMEZONE
TZID:America/Chicago
BEGIN:DAYLIGHT
TZOFFSETFROM:-0600
TZOFFSETTO:-0500
TZNAME:CDT
DTSTART:20230312T080000
END:DAYLIGHT
BEGIN:STANDARD
TZOFFSETFROM:-0500
TZOFFSETTO:-0600
TZNAME:CST
DTSTART:20231105T070000
END:STANDARD
END:VTIMEZONE
BEGIN:VEVENT
DTSTART;TZID=America/Chicago:20231112T160000
DTEND;TZID=America/Chicago:20231112T200000
DTSTAMP:20260419T143912
CREATED:20231106T204650Z
LAST-MODIFIED:20231106T205617Z
UID:13540-1699804800-1699819200@crln.org
SUMMARY:IRTF Human Rights Banquet - Fiesta de Derechos Humanxs
DESCRIPTION:On Sunday\, November 12\, 2023\, the InterReligious Task Force on Central America (IRTF) will commemorate the 43rd anniversary of the martyrdom of Clevelanders in El Salvador. On December 2\, 1980—four women (including CWRU alumna\, Jean Donovan and Ursuline Sister\, Dorothy Kazel) paid with their lives for deciding to stay in solidarity with oppressed and marginalized peoples\, despite political turmoil in El Salvador. \nRegister Here
URL:https://crln.org/event/irtf-human-rights-banquet-fiesta-de-derechos-humanxs/
LOCATION:Julia de Burgos Center\, 2800 Archwood Ave\, Cleveland\, OH\, 44109\, United States
CATEGORIES:Speaking tour
ATTACH;FMTTYPE=image/jpeg:https://crln.org/wp-content/uploads/2023/11/IRTF-Nov-12-Event.jpg
END:VEVENT
END:VCALENDAR