BEGIN:VCALENDAR
VERSION:2.0
PRODID:-//CRLN - ECPv6.0.11//NONSGML v1.0//EN
CALSCALE:GREGORIAN
METHOD:PUBLISH
X-ORIGINAL-URL:https://crln.org
X-WR-CALDESC:Events for CRLN
REFRESH-INTERVAL;VALUE=DURATION:PT1H
X-Robots-Tag:noindex
X-PUBLISHED-TTL:PT1H
BEGIN:VTIMEZONE
TZID:America/Chicago
BEGIN:DAYLIGHT
TZOFFSETFROM:-0600
TZOFFSETTO:-0500
TZNAME:CDT
DTSTART:20250309T080000
END:DAYLIGHT
BEGIN:STANDARD
TZOFFSETFROM:-0500
TZOFFSETTO:-0600
TZNAME:CST
DTSTART:20251102T070000
END:STANDARD
END:VTIMEZONE
BEGIN:VEVENT
DTSTART;TZID=America/Chicago:20250501T093000
DTEND;TZID=America/Chicago:20250501T223000
DTSTAMP:20260419T230343
CREATED:20250429T100931Z
LAST-MODIFIED:20250429T100931Z
UID:14401-1746091800-1746138600@crln.org
SUMMARY:¡No nos vamos! May Day
DESCRIPTION:May 1 is for the workers\, we are all workers\, and it is International Workers’ Day. May Day is a bittersweet forgotten history for anyone living in Chicago. If one is paying attention to the marches that happen from México\, Guatemala\, Chile to Brazil\, and around the world\, Chicago is almost always referenced. As the retired Reverend Dan Dale reminds us at CRLN ¨May Day was forged from the bloodshed and bravery of workers in Chicago\, who dared to dream of a world where they would be treated with dignity.¨ \nCRLN honors the martyrs of 1886 and the millions who marched in the 2006. They are who continue to be the spirit of this movement. Their struggle is not in the past\, it lives in undocumented workers fighting for fair wages\, and students resisting family separation. \nUnder today’s repressive regime\, as authoritarianism threatens the lives of all immigrants\, workers\, and the most vulnerable\, we must take to the streets again. \nOn May 1\, CRLN will be in the streets to honor the historic memory of the 1886 Martyrs\, as well as the memory of the 2006 marches and to participate as we write a new chapter of resistance for Chicago and the United States. \nCRLN will join the Interfaith Gathering that Arise Chicago has organized. \n📅 Date: May 1\, 2025 \n🕙 Time: 9:30AM – 10.30AM \n📍 Location: Union Park\, 1501 W Randolph St.\, Chicago\, IL 60606
URL:https://crln.org/event/no-nos-vamos-may-day/
LOCATION:IL
ATTACH;FMTTYPE=image/jpeg:https://crln.org/wp-content/uploads/2025/04/May-Day-2025-CRLN-Instagram-Post-1.jpg
END:VEVENT
BEGIN:VEVENT
DTSTART;TZID=America/Chicago:20251114T170000
DTEND;TZID=America/Chicago:20251114T200000
DTSTAMP:20260419T230343
CREATED:20251016T184756Z
LAST-MODIFIED:20251023T185116Z
UID:14417-1763139600-1763150400@crln.org
SUMMARY:What’s CRLN been up to? What’s in our future?
DESCRIPTION:Join us for a fundraiser full of music\, community\, and shared vision! 💫 Featuring live music inspired by Los Torogoces and stories from Sebastián Torogoz new book. Read Sebastián Torogoz Biography  This special night will honor the past\, uplift the present\, and build toward a just future — all while raising funds to keep solidarity strong. \nDetails  \nNovember 14\, 2025 from 5-8:00 PM \nLatin Patio\, 3115 N Central Ave Chicago\, IL 60634 \nGet your Tickets Now! \n  \n  \n 
URL:https://crln.org/event/whats-crln-been-up-to-whats-in-our-future/
LOCATION:Latin Patio\, 3115 N Central Ave\, Chicago\, 60634\, United States
CATEGORIES:Concert,Fundraiser,Speaking tour
END:VEVENT
END:VCALENDAR