BEGIN:VCALENDAR
VERSION:2.0
PRODID:-//CRLN - ECPv6.0.11//NONSGML v1.0//EN
CALSCALE:GREGORIAN
METHOD:PUBLISH
X-ORIGINAL-URL:https://crln.org
X-WR-CALDESC:Events for CRLN
REFRESH-INTERVAL;VALUE=DURATION:PT1H
X-Robots-Tag:noindex
X-PUBLISHED-TTL:PT1H
BEGIN:VTIMEZONE
TZID:America/Chicago
BEGIN:DAYLIGHT
TZOFFSETFROM:-0600
TZOFFSETTO:-0500
TZNAME:CDT
DTSTART:20200308T080000
END:DAYLIGHT
BEGIN:STANDARD
TZOFFSETFROM:-0500
TZOFFSETTO:-0600
TZNAME:CST
DTSTART:20201101T070000
END:STANDARD
END:VTIMEZONE
BEGIN:VEVENT
DTSTART;TZID=America/Chicago:20200307T140000
DTEND;TZID=America/Chicago:20200307T170000
DTSTAMP:20260425T230651
CREATED:20200206T225911Z
LAST-MODIFIED:20200206T225911Z
UID:11250-1583589600-1583600400@crln.org
SUMMARY:Chicago-Cinquera Bowl-a-rama
DESCRIPTION:Bowling to support university scholarship students in Cinquera\, Chicago’s sister city in El Salvador!\nStudents return to the community to share their new skills in agriculture\, business\, teaching and organizing. \nChildren welcome!  Special lanes for kids. \nRegister as an individual for $25 or bring $50 in pledges to bowl FREE! \nMore info at 773-561-4208 or jimmyishere@hotmail.com
URL:https://crln.org/event/chicago-cinquera-bowl-a-rama/
LOCATION:Timberlanes\, 1851 W. Irving Park Rd.\, Chicago\, IL
END:VEVENT
BEGIN:VEVENT
DTSTART;TZID=America/Chicago:20200312T170000
DTEND;TZID=America/Chicago:20200312T190000
DTSTAMP:20260425T230652
CREATED:20200306T192640Z
LAST-MODIFIED:20200306T192640Z
UID:11293-1584032400-1584039600@crln.org
SUMMARY:Reimagining Diversity and Inclusion via Epistemologies of the South
DESCRIPTION:A dynamic\, arts-based workshop that will involve participants in a collective exploration of the conflicts we face surrounding epistemological diversity and inclusion in higher education. Discuss approaches to decolonizing knowledge and learn strategies to address different epistemologies. This workshop will be facilitated by Fany Aguinda\, an indigenous Kichwa youth leader from Tzawata\, Ecuador and Chelsea Viteri\, a mestiza educator-facilitator-artist from Quito\, Ecuador. Fany and Chelsea are members of the Pachaysana Institute\, a collective of Ecuadorian and international educators\, teaching artists\, development specialists and community organizers who seek to bridge the divide between community development and international development\, as well as between local and global education. \nUniversity education is shaped and guided by western epistemologies. Clearly\, this eurocentric approach to knowledge has made innumerable contributions to contemporary life. Nevertheless\, it goes without saying that non-western epistemologies and ontologies have been excluded — even obliterated — in its name. Bonaventura de Sousa Santos refers to these alternative ways of thinking as “Epistemologies of the South\,” and the acts against their inclusion as epistemicide — an integral part of an ongoing colonial project of domination over territory\, resources and human bodies. For most of us\, epistemicide is a subtle but violent act and one that we never perceived during our education. However\, it has resulted in collective biases related to how we define what is legitimate knowledge and who can be viewed as a legitimate knower. Our views are often limited to a western legacy\, which is tied to colonial and patriarchal violence. Even in projects with the best of intentions\, this limited epistemological framework often results in work that is extractive and exploitative of communities\, yielding scarce benefits to those outside of the ivory tower. What then\, would it look like to decolonize community-university partnerships for the common good? \n  \nThis event is free and open to the public. \n  \nCo-sponsored by the Global Learning Office (GLO)\, Center for Native American and Indigenous Research (CNAIR)\, Latinx Studies Program\, Department of Theater\, and the Searle Center for Advancing Learning and Teaching at Northwestern University. In partnership with the Center for Experiential Learning and the Latin American Studies Program at Loyola University Chicago. \n  \nSee Eventbrite page and RSVP here. \n  \n***Please note that Fany and Chelsea will conduct a similar workshop at Loyola University Chicago on Friday\, March 13 from 12-1:30 PM in the Mundelein Center 1410.***
URL:https://crln.org/event/reimagining-diversity-and-inclusion-via-epistemologies-of-the-south/
LOCATION:Guild Lounge\, Scott Hall\, Northwestern University\, 601 University Place\, Evanston\, IL\, 60208
END:VEVENT
END:VCALENDAR