BEGIN:VCALENDAR
VERSION:2.0
PRODID:-//CRLN - ECPv6.0.11//NONSGML v1.0//EN
CALSCALE:GREGORIAN
METHOD:PUBLISH
X-ORIGINAL-URL:https://crln.org
X-WR-CALDESC:Events for CRLN
REFRESH-INTERVAL;VALUE=DURATION:PT1H
X-Robots-Tag:noindex
X-PUBLISHED-TTL:PT1H
BEGIN:VTIMEZONE
TZID:America/Chicago
BEGIN:DAYLIGHT
TZOFFSETFROM:-0600
TZOFFSETTO:-0500
TZNAME:CDT
DTSTART:20200308T080000
END:DAYLIGHT
BEGIN:STANDARD
TZOFFSETFROM:-0500
TZOFFSETTO:-0600
TZNAME:CST
DTSTART:20201101T070000
END:STANDARD
END:VTIMEZONE
BEGIN:VEVENT
DTSTART;TZID=America/Chicago:20200404T090000
DTEND;TZID=America/Chicago:20200405T113000
DTSTAMP:20260425T213017
CREATED:20200331T181140Z
LAST-MODIFIED:20200331T181140Z
UID:11336-1585990800-1586086200@crln.org
SUMMARY:Confronting Forced Migration and Violence in the Americas Webinar Series
DESCRIPTION:Need something good to do while you are sheltering at home during the coronavirus pandemic? Watch a series of five\, one-hour webinars this Saturday and Sunday\, April 4 and 5\, facilitated by CRLN’s ally orgranization\, SOAWatch. Presenters include veterans in the movement for peace and social justice in Latin America like Laura Carlsen\, Jennifer Harbury\, John Lindsey-Poland\, and Dana Frank\, along with newer faces involved in Abya Yala (“Las Americas”) and activists along the U.S.-Mexican border. \nThe series will examine the impact of US-backed state violence in the hemisphere\, the root causes of forced migration and militarization\, and will teach you how to use effective narratives\, mutual aid\, research and lobbying to nourish our collective work as we face the current humanitarian crisis. \nFor a description and time period for each webinar and to register separately for each webinar that interests you\, go to https://www.soaw.org/webinar-series-april-4-5-2020-confronting-forced-migration-violence-in-the-americas \n 
URL:https://crln.org/event/soaw-webinar-series-april4-5/
END:VEVENT
BEGIN:VEVENT
DTSTART;TZID=America/Chicago:20200410T120000
DTEND;TZID=America/Chicago:20200410T140000
DTSTAMP:20260425T213017
CREATED:20200305T204605Z
LAST-MODIFIED:20200327T162656Z
UID:11273-1586520000-1586527200@crln.org
SUMMARY:Good Friday Walk for Justice
DESCRIPTION: 40th ANNIVERSARY GOOD FRIDAY WALK FOR JUSTICE \n April 10\, 2020\, 12:00 NOON \nHOPE RISES IN COURAGEOUS COMMUNITY \n  \n“When it is all too much\, when the news is so bad that meditation itself feels useless\, and a single life feels like too small a stone to offer on the altar of peace\, find a human sunrise. Find those people who are committed to changing our scary reality. Human sunrises are happening all over the earth\, at every moment. People gathering\, people working to change the intolerable\, people coming in their robes and sandals or in their rags and bare feet\, and they are singing\, or not\, and they are chanting\, or not. But they are working to bring peace\, light\, compassion to the infinitely frightening downhill slide of human life.”  (Alice Walker\, Naropa University\, 2007) \n  \nIn these challenging times\, when all around us we see injustice\, violence\, lies\, and despair\, it is important to remember and claim that “another world is possible!” And not only is it possible\, but it is being created and nurtured by all of those working together to build a world of justice\, compassion\, truth\, and hope! \n  \nCRLN has created the responsive reading for the 4th station\, “Helped in the Struggle.”  \n  \nIn light of the coronavirus pandemic\, the “walk” part of Good Friday Walk for Justice is cancelled. \n  \nHOWEVER\, even though we cannot gather right now\, WE CAN STILL PRAY and take courageous action for justice in our communities!  We will honor this 40th Anniversary Good Friday Walk for Justice by publishing our Prayer Booklet online.  We encourage you to pray this modern-day Way-of-the-Cross on Good Friday in the safety of your homes with members of your households.  The booklet will be available at walkforjusticechicago.com by Monday\, April 6. The Planning Committee and Station Coordinators will record an audio/visual performance of the responsive readings and have it available for download at the website or link to it from the website as well. In that way\, you can feel more connected to those leading the prayers and others participating in the event. \n  \nDuring this extended period of social distancing\, the need for “Hope Rising in Courageous Community” is more important than ever.  Please share this resource widely\, and take heart in the words of author and poet\, Alice Walker\, who reminds us that “Human sunrises are happening all over the earth\,” and that the work to “bring peace\, light\, compassion” to this world shines on. \n  \nAnd PLEASE send your email address to planning committee convener Nancy Jones at nancyjones193@gmail.com so we can keep you in the loop about next year’s Good Friday Walk for Justice. \n  \n  \nTo support this year’s Walk\, make checks payable to CRLN (memo: GFWalk) and mail to CRLN\, 5655 S. University Ave.\, #23\, Chicago\, IL 60637\, or pay online at bit.ly/wfj20. \n 
URL:https://crln.org/event/good-friday-walk-for-justice-2/
LOCATION:Plaza\, NE corner of Ida B. Wells & Michigan Ave\, Chicago\, IL
ATTACH;FMTTYPE=image/png:https://crln.org/wp-content/uploads/2020/03/GFWJ-2020.png
ORGANIZER;CN="CRLN":MAILTO:info@crln.org
END:VEVENT
BEGIN:VEVENT
DTSTART;TZID=America/Chicago:20200416T180000
DTEND;TZID=America/Chicago:20200416T200000
DTSTAMP:20260425T213017
CREATED:20200326T223830Z
LAST-MODIFIED:20200327T161327Z
UID:11326-1587060000-1587067200@crln.org
SUMMARY:“Ancestral Movements: Indigenous Territory and Migration” with Silvia Raquec Cum
DESCRIPTION:Webinar\, “Ancestral Movements: Indigenous Territory and Migration”\nwith Maya Kaqchikel presenter Silvia Raquec Cum\, Migration Program Coordinator\, Association Pop No’j\nApril 16\, 2020\, 6:00pm CST \nWhile state forces threaten their safety and dignity\, Indigenous peoples and migrants resist with courage and resilience. Join us for this webinar to learn about resource extraction\, migration\, and the work of Indigenous people in Guatemala to build a world beyond colonial borders. Register here for English translation webinar.  Register here for Spanish language webinar. \n  \nThis educational session will prepare you to participate in a wide coalition campaign\, of which CRLN is a part\, to end the Asylum Cooperation Agreements (ACAs) between the U.S. Department of Homeland Security and the Presidents of Guatemala\, Honduras\, and El Salvador. The ACAs allow the U.S. to deport asylum seekers and require them to seek asylum in these three countries. None of these countries has a well-functioning process for applying for asylum nor the capacity to shelter and feed people deported while they wait. No Congress has approved these agreements.
URL:https://crln.org/event/ancestral-movements-indigenous-territory-and-migration-with-silvia-raquec-cum/
END:VEVENT
BEGIN:VEVENT
DTSTART;TZID=America/Chicago:20200418T140000
DTEND;TZID=America/Chicago:20200418T150000
DTSTAMP:20260425T213017
CREATED:20200408T162536Z
LAST-MODIFIED:20200408T162738Z
UID:11356-1587218400-1587222000@crln.org
SUMMARY:Webinar: El Salvador's Water in the Time of COVID-19
DESCRIPTION:Register here\nDate and time: Saturday\, April 18\, 2pm CST\nIn the midst of the COVID-19 pandemic\, how can you wash your hands with no access to clean water? You can’t. After decades of right-wing attacks on essential public services\, like health care and water\, many people in El Salvador do not have the access they need to protect their health in this critical time\, much less easily carry on daily cooking and cleaning tasks. \nJoin CRLN ally CISPES (Committee in Solidarity with the People of El Salvador) for an online conversation with water defense activist and national labor union leader\, Marielos de Leon\, to learn how organizers in El Salvador are advancing the struggle for water rights for all–and the important role that international solidarity can play today.  \nYou must register to participate in this webinar.
URL:https://crln.org/event/webinar-el-salvadors-water-in-the-time-of-covid-19/
END:VEVENT
END:VCALENDAR