BEGIN:VCALENDAR
VERSION:2.0
PRODID:-//CRLN - ECPv6.0.11//NONSGML v1.0//EN
CALSCALE:GREGORIAN
METHOD:PUBLISH
X-ORIGINAL-URL:https://crln.org
X-WR-CALDESC:Events for CRLN
REFRESH-INTERVAL;VALUE=DURATION:PT1H
X-Robots-Tag:noindex
X-PUBLISHED-TTL:PT1H
BEGIN:VTIMEZONE
TZID:America/Chicago
BEGIN:DAYLIGHT
TZOFFSETFROM:-0600
TZOFFSETTO:-0500
TZNAME:CDT
DTSTART:20200308T080000
END:DAYLIGHT
BEGIN:STANDARD
TZOFFSETFROM:-0500
TZOFFSETTO:-0600
TZNAME:CST
DTSTART:20201101T070000
END:STANDARD
END:VTIMEZONE
BEGIN:VEVENT
DTSTART;TZID=America/Chicago:20200718T190000
DTEND;TZID=America/Chicago:20200719T220000
DTSTAMP:20260425T164014
CREATED:20200713T223858Z
LAST-MODIFIED:20200713T224903Z
UID:11518-1595098800-1595196000@crln.org
SUMMARY:Concert honoring Cuban Medical Brigades and calling for an end to U.S. Sanctions
DESCRIPTION:  \nA GLOBAL MUSICAL HOMAGE HONORING CUBAN MEDICAL BRIGADES AND CALLING FOR AN END TO U.S. SANCTIONS \nThe event will stream online on SATURDAY JULY 18 AND SUNDAY JULY 19 AT 7 pm \nREGISTER HERE \n  \nCultural organizers from the US and Canada have come together with the Instituto Cubano de la Musica (ICM) in Cuba to host a special tribute recognizing the distinct contributions to the world during the Covid-19 pandemic. The concert will salute Cuba’s heroic and outsized contributions to health care around the world as doctors have volunteered this year to serve in more than 26 countries.The two-day cultural event will feature the legendary talent nurtured on Cuban soil and recognized world-wide as virtuoso artists. Musicians located outside of Cuba influenced by numerous Afro-Cuban styles or who are playing in solidarity with the aims of the event are also participating. The roster of talent amassed for this historic event signifies the concert as one of music history’s most memorable gatherings. \nInterspersed with the music\, tributes by long-time friends of Cuba\, other artists\, politicians in the US\, religious leaders\, academics\, and activists will join the program to make remarks and offer context to the program. \nClick here for SATURDAY’S line-up  \nClick here for SUNDAY’S line-up \nThe program will broadcast LIVE from Havana’s Instituto Cubano de la Musica and from points around the globe while physical distancing is still observed. \n \nBroadcast via the Twitch.tv/HotHouseGlobal channel. \nThe HotHouseGlobal Twitch Channel will also be simulcast on \n• HotHouseGlobal on You Tube https://www.youtube.com/watch?v=_fqiXc40zwA \n• Facebook https://www.facebook.com/hothousechicago \n• And on the HotHouse web site www.hothouse.net/HotHouseGlobal \nInside Cuba\, the live stream will be broadcast across Cuba on national television. Co-presenters around the world will also create Watch parties on Facebook to expand the reach and audience for this legendary event. The archival version will be available on HotHouseGlobal’s You Tube channel after the live stream two-day event is concluded. The program will be presented for free without pay walls and all labor related to the program has been donated. \n  \n  \n  \n  \n  \n 
URL:https://crln.org/event/concert-honoring-cuban-medical-brigades-and-calling-for-an-end-to-u-s-sanctions/
END:VEVENT
END:VCALENDAR