BEGIN:VCALENDAR
VERSION:2.0
PRODID:-//CRLN - ECPv6.0.11//NONSGML v1.0//EN
CALSCALE:GREGORIAN
METHOD:PUBLISH
X-WR-CALNAME:CRLN
X-ORIGINAL-URL:https://crln.org
X-WR-CALDESC:Events for CRLN
REFRESH-INTERVAL;VALUE=DURATION:PT1H
X-Robots-Tag:noindex
X-PUBLISHED-TTL:PT1H
BEGIN:VTIMEZONE
TZID:America/Chicago
BEGIN:DAYLIGHT
TZOFFSETFROM:-0600
TZOFFSETTO:-0500
TZNAME:CDT
DTSTART:20200308T080000
END:DAYLIGHT
BEGIN:STANDARD
TZOFFSETFROM:-0500
TZOFFSETTO:-0600
TZNAME:CST
DTSTART:20201101T070000
END:STANDARD
END:VTIMEZONE
BEGIN:VEVENT
DTSTART;TZID=America/Chicago:20201003T173000
DTEND;TZID=America/Chicago:20201003T203000
DTSTAMP:20260425T084034
CREATED:20200305T210945Z
LAST-MODIFIED:20200922T171313Z
UID:11278-1601746200-1601757000@crln.org
SUMMARY:12th Annual El Pueblo Canta
DESCRIPTION:Advance tickets and sponsorship at waucc.org/2020ElPuebloCanta \n  \nFEATURING: El Wadi Ensemble \n  \nPLUS: special performances by VOICES\, the Wellington Choir\, and the “Dare to Dream” Centro Romero Youth Choir. \n  \nSATURDAY\, OCTOBER 3\, 2020 \n  \nTIME: Doors open at 5:30pm–Traditional Latino and Middle Eastern food for purchase \n           Concert: 7:00 – 8:30pm \n  \nLOCATION: Wellington Ave. UCC\, 615 W. Wellington Ave.\, Chicago\, IL. Located on the corner of Broadway and Wellington\, a few blocks south of Belmont Ave. Close                         to the Halsted\, Broadway and Clark St. buses\, as well as the Red or Brown Line CTA trains  \n  \nTICKETS: $25 general admission\, $15 students/limited income\, children under 12 free (childcare available\, RSVP at 773-935-0642)  \n  \nAdvance tickets and sponsorship at waucc.org/2020ElPuebloCanta \n  \nCall 773-935-0642 for more details \n  \nPARKING: Complimentary parking passes generously provided by Advocate IL Masonic Hospital at garage at Halsted and Wellington. \n  \nAll proceeds will go to support the immigrant justice work of Centro Romero\, CRLN\, and Wellington Ave. UCC \n  \nBUILDING COMMUNITY WHERE ALL ARE WELCOME!
URL:https://crln.org/event/12th-annual-el-pueblo-canta/
LOCATION:Wellington Ave Church\, 615 West Wellington Ave\, Chicago\, Wellington Ave Church\, 615 West Wellington Ave\, Chicago\, United States
ORGANIZER;CN="CRLN":MAILTO:info@crln.org
END:VEVENT
BEGIN:VEVENT
DTSTART;TZID=America/Chicago:20201018T160000
DTEND;TZID=America/Chicago:20201018T170000
DTSTAMP:20260425T084034
CREATED:20200820T212834Z
LAST-MODIFIED:20200925T195931Z
UID:11589-1603036800-1603040400@crln.org
SUMMARY:2020 Pedal for Peace: Bike in Your Barrio
DESCRIPTION:In these times\, we have dreamed up a new way to participate in this annual event! This will be a decentralized Pedal for Peace\, and we also have opened it up to people who run or walk. It is more flexible–choose your date within the next month to participate! Finally\, we will all gather online to celebrate the results of our collective action. Click here to participate (join) or donate.\n\n\n\n\n\n\n  \nSeptember 12– October 11\, you get to choose the day to bike\, run\, or walk the distance of your choice. \n\nAlone or with family/friends\nOn a bike path\, neighborhood streets\, park\, or exercise bike\nSend a photo of yourself in your biking location holding a sign with the name of the location (neighborhood\, bike path\, etc.) appearing in the photo to shunter-smith@crln.org to share with other participants.\n\n  \nOctober 18\, 4-5 pm: Online Zoom program to celebrate our united efforts to empower our communities in Illinois and Latin America. We will send out the link to you on the day of the event. While we cannot gather at this time\, we can celebrate the way we remain connected by our global hearts and similar missions. \n  \nYour fundraising or donations help us support the following: \n\nscholarships for rural Indigenous students in Guatemala and El Salvador\nhealth promoter trainings in rural and Indigenous or Black communities in Colombia\neducating high risk communities in El Salvador and Honduras about Coronavirus and critical steps they can take to protect themselves and their families\nvoter registration and issues education in immigrant communities in Lake County\, IL\nfunding for those who must renew DACA work authorization at exorbitant new rates.\n\n  \nYou can raise funds online using social media tools or you can use a paper pledge form to collect checks (contact shunter-smith@crln.org for a pledge form or if you have questions). Whichever method you choose\, sign up to join one of the teams to raise funds or donate to one of the teams at charity.gofundme.com/pedal-for-peace-bike-in-your-barrio \n  \n  \n  \n  \n 
URL:https://crln.org/event/2020-pedal-for-peace-bike-in-your-barrio/
CATEGORIES:Bike-a-Thon
ATTACH;FMTTYPE=image/jpeg:https://crln.org/wp-content/uploads/2020/08/P4P-logo-1.jpg
ORGANIZER;CN="Chicago%20Religious%20Leadership%20Network%20On%20Latin%20America":MAILTO:crln@crln.org
END:VEVENT
END:VCALENDAR