BEGIN:VCALENDAR
VERSION:2.0
PRODID:-//CRLN - ECPv6.0.11//NONSGML v1.0//EN
CALSCALE:GREGORIAN
METHOD:PUBLISH
X-WR-CALNAME:CRLN
X-ORIGINAL-URL:https://crln.org
X-WR-CALDESC:Events for CRLN
REFRESH-INTERVAL;VALUE=DURATION:PT1H
X-Robots-Tag:noindex
X-PUBLISHED-TTL:PT1H
BEGIN:VTIMEZONE
TZID:America/Chicago
BEGIN:DAYLIGHT
TZOFFSETFROM:-0600
TZOFFSETTO:-0500
TZNAME:CDT
DTSTART:20210314T080000
END:DAYLIGHT
BEGIN:STANDARD
TZOFFSETFROM:-0500
TZOFFSETTO:-0600
TZNAME:CST
DTSTART:20211107T070000
END:STANDARD
END:VTIMEZONE
BEGIN:VEVENT
DTSTART;TZID=America/Chicago:20210302T160000
DTEND;TZID=America/Chicago:20210302T170000
DTSTAMP:20260424T225815
CREATED:20210302T154338Z
LAST-MODIFIED:20210302T154445Z
UID:11967-1614700800-1614704400@crln.org
SUMMARY:Press conference for Senate bill on human rights and anti-corruption in Honduras
DESCRIPTION:Join us for a press conference calling on Senator Duckworth to sign onto the Honduras Human Rights and Anti-Corruption Act of 2021. Senator Durbin is an original co-sponsor of the bill\, introduced by Senator Merkley of Oregon. \nCan’t join us? Click here to find a description of the bill and a sample script; call your Senators and ask them to sign on.
URL:https://crln.org/event/press-conference-for-senate-bill-on-human-rights-and-anti-corruption-in-honduras/
LOCATION:Federal Plaza\, 230 S. Dearborn St.\, Chicago\, 60604\, United States
END:VEVENT
BEGIN:VEVENT
DTSTART;VALUE=DATE:20210320
DTEND;VALUE=DATE:20210322
DTSTAMP:20260424T225815
CREATED:20210318T202223Z
LAST-MODIFIED:20210318T214529Z
UID:11983-1616198400-1616371199@crln.org
SUMMARY:La Lucha Sigue Film & Panel with Bertha Zúniga Cáceres & Miriam Miranda
DESCRIPTION:World Premiere of La Lucha Sigue a new film about Honduran land defenders followed by a panel discussion with Bertha Zúniga Cáceres and Miriam Miranda\nIn Honduras\, the most dangerous place in the world to be a land defender\, the Lenca and Garífuna people are not backing down. They are fighting to uphold their rights and Indigenous and Black cultures in the face of state backed megaprojects and narco-traffickers who seek to assassinate them\, destroy their lands\, and erase their existence. Register to watch the WORLD PREMIERE of La Lucha Sigue at 2:00 pm CT Saturday March 20 as part of the Building Movements in Defense of Life\, a free bilingual film festival featuring true stories of resistance to industrial capitalism.  Stay after the film for a panel featuring the protagonists of the film\, Bertha Zúniga Cáceres and Miriam Miranda on Saturday at 3:30 PM CT. \nOn Sunday at 3:30 PM CT Bertha and Miriam will join a panel with all the women featured in the film festival. You will need to register for the Sunday panel separately and select large group discussion.  See the whole schedule and register at:  https://www.mutualaidmedia.com/schedule \n  \n\n\n  \n 
URL:https://crln.org/event/la-lucha-sigue-film-panel-with-bertha-caceres-miriam-miranda/
ATTACH;FMTTYPE=image/jpeg:https://crln.org/wp-content/uploads/2021/03/CopyofFilmFestENG16-9V2-smaller-file-size.jpg
END:VEVENT
BEGIN:VEVENT
DTSTART;TZID=America/Chicago:20210322T170000
DTEND;TZID=America/Chicago:20210322T180000
DTSTAMP:20260424T225815
CREATED:20210318T221233Z
LAST-MODIFIED:20210318T222719Z
UID:12003-1616432400-1616436000@crln.org
SUMMARY:Immigration Legislation & Executive Action Webinar
DESCRIPTION:Register at https://tinyurl.com/crlnwebinar1\nPlan to join us for this informative zoom update on immigration legislation and executive actions.\nYou will receive an email from ICIRR after you register with the zoom link.
URL:https://crln.org/event/immigration-legislation-executive-action-webinar/
ATTACH;FMTTYPE=image/jpeg:https://crln.org/wp-content/uploads/2021/03/ImmWebinar-FINAL-03-22-21.jpg
END:VEVENT
BEGIN:VEVENT
DTSTART;TZID=America/Chicago:20210324T180000
DTEND;TZID=America/Chicago:20210324T200000
DTSTAMP:20260424T225815
CREATED:20210322T185225Z
LAST-MODIFIED:20210322T190543Z
UID:12031-1616608800-1616616000@crln.org
SUMMARY:Indigenous Peoples' Human Rights in Migration Webinar
DESCRIPTION:Join us on March 24 at 4 PM PT // 6 PM CT // 7 PM ET for “Indigenous Peoples’ Human Rights in Migration\,” a webinar featuring Juanita Cabrera Lopez (Maya Mam)\, Luis Marcos (Q’anjob’al Maya)\, Giovanni Batz (K’iche’ Maya). Please share with your networks! \nREGISTRATION: https://bit.ly/IndigenousHumanRightsWebinar\nTAKE ACTION: https://bit.ly/IndigenousHumanRightsAction \nINTERPRETATION: Mam Maya\, Spanish\, English\nCLOSED CAPTIONS: Spanish & English
URL:https://crln.org/event/12031/
ATTACH;FMTTYPE=image/png:https://crln.org/wp-content/uploads/2021/03/March-24-ENG-IG.png
END:VEVENT
END:VCALENDAR