BEGIN:VCALENDAR
VERSION:2.0
PRODID:-//CRLN - ECPv6.0.11//NONSGML v1.0//EN
CALSCALE:GREGORIAN
METHOD:PUBLISH
X-ORIGINAL-URL:https://crln.org
X-WR-CALDESC:Events for CRLN
REFRESH-INTERVAL;VALUE=DURATION:PT1H
X-Robots-Tag:noindex
X-PUBLISHED-TTL:PT1H
BEGIN:VTIMEZONE
TZID:America/Chicago
BEGIN:DAYLIGHT
TZOFFSETFROM:-0600
TZOFFSETTO:-0500
TZNAME:CDT
DTSTART:20210314T080000
END:DAYLIGHT
BEGIN:STANDARD
TZOFFSETFROM:-0500
TZOFFSETTO:-0600
TZNAME:CST
DTSTART:20211107T070000
END:STANDARD
END:VTIMEZONE
BEGIN:VEVENT
DTSTART;TZID=America/Chicago:20210725T130000
DTEND;TZID=America/Chicago:20210725T150000
DTSTAMP:20260424T151520
CREATED:20210720T232828Z
LAST-MODIFIED:20210720T232828Z
UID:12192-1627218000-1627225200@crln.org
SUMMARY:Chicago Rally Calling for an End to the U.S. Blockade of Cuba!
DESCRIPTION:Chicago Rally for an End to the U.S. Blockade of Cuba!\nCarlos Lazo\, a Cuban-American school teacher and Iraq war veteran\, has been on a 1\,300 mile pilgrimage — with six other Cuban Americans—all the way from Miami! He will arrive in Washington\, DC on July 25 to present the Biden Administration with a petition signed by over 25\,000 calling for an end to the U.S. blockade and demanding: \n• the end of all sanctions\n• the restoration of remittances\n• the resumption of flights from the U.S.\, not only to Havana but to all the regional centers of Cuba\n• the reopening of the U.S. Embassy in Havana\n• a restart to the program of family reunification \nChicagoans will rally on July 25 at 1 pm at Michigan Ave. and Ida B. Wells Drive in solidarity with these demands.   \nLet’s support building bridges of love between Cuba and the United States.  \nJoin the call to end the U.S. sanctions now! \n  \nEvents in DC: You can find out more about welcome events in DC at https://www.codepink.org/cuba07252021.\nCar and Bike Caravan in Milwaukee: The car and bike caravan will take place on Sunday\, July 25\, with a send off rally at 1pm at the parking lot of the Mitchell Park Domes\, 524 South Layton Blvd.\, Milwaukee 53215. In addition to Cuban-Americans\, speakers will include Tony Baez who co-sponsored the unanimously adopted Milwaukee School Board resolution calling for normal relations\, and a representative from Voces de la Frontera\, the state’s leading immigrant rights organization. \n 
URL:https://crln.org/event/chicago-rally-calling-for-an-end-to-the-u-s-blockade-of-cuba/
LOCATION:Michigan Avenue and Ida B Wells Drive in downtown Chicago 60605
END:VEVENT
END:VCALENDAR