BEGIN:VCALENDAR
VERSION:2.0
PRODID:-//CRLN - ECPv6.0.11//NONSGML v1.0//EN
CALSCALE:GREGORIAN
METHOD:PUBLISH
X-ORIGINAL-URL:https://crln.org
X-WR-CALDESC:Events for CRLN
REFRESH-INTERVAL;VALUE=DURATION:PT1H
X-Robots-Tag:noindex
X-PUBLISHED-TTL:PT1H
BEGIN:VTIMEZONE
TZID:America/Chicago
BEGIN:DAYLIGHT
TZOFFSETFROM:-0600
TZOFFSETTO:-0500
TZNAME:CDT
DTSTART:20210314T080000
END:DAYLIGHT
BEGIN:STANDARD
TZOFFSETFROM:-0500
TZOFFSETTO:-0600
TZNAME:CST
DTSTART:20211107T070000
END:STANDARD
END:VTIMEZONE
BEGIN:VEVENT
DTSTART;TZID=America/Chicago:20211031T120000
DTEND;TZID=America/Chicago:20211031T150000
DTSTAMP:20260424T103829
CREATED:20210322T174852Z
LAST-MODIFIED:20211028T173727Z
UID:12021-1635681600-1635692400@crln.org
SUMMARY:Chicago Car Caravan for an end to sanctions against the Cuban people!
DESCRIPTION:Cuban families in the U.S. initiated a world-wide call for car and bike caravans to say: “End the U.S. sanctions that separate and hurt Cuban families.”  On Sunday October 31 Chicago will join other U.S. cities and many more around the world to support them!\nThe Caravan will meet at 12 pm (noon) on Sunday\, October 31\nAssemble at Cermak Plaza\nsoutheast corner of Cermak and Harlem\, Southside of McDonalds in Berwyn \n  View and download route map here\nStatements of solidarity at kick off.  Bring signs to decorate your vehicle.\nFor more information:  630-915-0654  
URL:https://crln.org/event/chicago-car-caravan-for-an-end-sanctions-against-the-cuban-people/
LOCATION:Cermak Plaza
ATTACH;FMTTYPE=image/jpeg:https://crln.org/wp-content/uploads/2021/07/President-Biden-Honor-Your-Word-Poster-by-Bridges-of-Love-photoshopped.jpg
END:VEVENT
END:VCALENDAR