BEGIN:VCALENDAR
VERSION:2.0
PRODID:-//CRLN - ECPv6.0.11//NONSGML v1.0//EN
CALSCALE:GREGORIAN
METHOD:PUBLISH
X-ORIGINAL-URL:https://crln.org
X-WR-CALDESC:Events for CRLN
REFRESH-INTERVAL;VALUE=DURATION:PT1H
X-Robots-Tag:noindex
X-PUBLISHED-TTL:PT1H
BEGIN:VTIMEZONE
TZID:America/Chicago
BEGIN:DAYLIGHT
TZOFFSETFROM:-0600
TZOFFSETTO:-0500
TZNAME:CDT
DTSTART:20220313T080000
END:DAYLIGHT
BEGIN:STANDARD
TZOFFSETFROM:-0500
TZOFFSETTO:-0600
TZNAME:CST
DTSTART:20221106T070000
END:STANDARD
END:VTIMEZONE
BEGIN:VEVENT
DTSTART;TZID=America/Chicago:20221106T150000
DTEND;TZID=America/Chicago:20221106T180000
DTSTAMP:20260422T030400
CREATED:20220803T193441Z
LAST-MODIFIED:20220803T193727Z
UID:12813-1667746800-1667757600@crln.org
SUMMARY:Weaving utopias\, hopes and dreams / Tejiendo utopías\, esperanzas y sueños
DESCRIPTION:More information / Más detalles del evento
URL:https://crln.org/event/weaving-utopias-hopes-and-dreams-tejiendo-utopias-esperanzas-y-suenos/
LOCATION:University Church\, 5655 S. University Ave.\, Chicago\, IL\, 60637
CATEGORIES:CRLN's Annual Luncheon
ATTACH;FMTTYPE=image/png:https://crln.org/wp-content/uploads/2022/08/Annual-Event-Logo.png
ORGANIZER;CN="CRLN":MAILTO:info@crln.org
END:VEVENT
END:VCALENDAR